BEGIN:VCALENDAR
VERSION:2.0
PRODID:-//wp-events-plugin.com//7.2.3.1//EN
TZID:Europe/Zurich
X-WR-TIMEZONE:Europe/Zurich
BEGIN:VEVENT
UID:5686@ref-nidau.ch
DTSTART;TZID=Europe/Zurich:20251109T100000
DTEND;TZID=Europe/Zurich:20251109T110000
DTSTAMP:20251114T233419Z
URL:https://ref-nidau.ch/anlaesse/culte-assemblee-de-la-paroisse-francaise
 -de-bienne/
SUMMARY:Culte\, assemblée de la Paroisse française de Bienne
DESCRIPTION:Laure Devaux\, pasteure
CATEGORIES:Communauté romande
LOCATION:Eglise Saint Etienne\, Biel/Bienne\, 2500\, Schweiz
GEO:47.1463305;7.27051
X-APPLE-STRUCTURED-LOCATION;VALUE=URI;X-ADDRESS=Biel/Bienne\, 2500\, Schwei
 z;X-APPLE-RADIUS=100;X-TITLE=Eglise Saint Etienne:geo:47.1463305,7.27051
END:VEVENT
BEGIN:VTIMEZONE
TZID:Europe/Zurich
X-LIC-LOCATION:Europe/Zurich
BEGIN:STANDARD
DTSTART:20251026T020000
TZOFFSETFROM:+0200
TZOFFSETTO:+0100
TZNAME:CET
END:STANDARD
END:VTIMEZONE
END:VCALENDAR