BEGIN:VCALENDAR
VERSION:2.0
PRODID:-//wp-events-plugin.com//7.2.3.1//EN
TZID:Europe/Zurich
X-WR-TIMEZONE:Europe/Zurich
BEGIN:VEVENT
UID:5671@ref-nidau.ch
DTSTART;TZID=Europe/Zurich:20251102T170000
DTEND;TZID=Europe/Zurich:20251102T180000
DTSTAMP:20251107T233413Z
URL:https://ref-nidau.ch/anlaesse/culte-bilingue-dimanche-de-la-reformatio
 n/
SUMMARY:Culte\, bilingue\, dimanche de la Réformation
DESCRIPTION:Cédric Némitz\, pasteur\nPhilippe König\, pasteur
CATEGORIES:Communauté romande
LOCATION:Temple Allemand\, Biel/Bienne\, 2502\, Schweiz
GEO:47.14135845;7.2465537562721
X-APPLE-STRUCTURED-LOCATION;VALUE=URI;X-ADDRESS=Biel/Bienne\, 2502\, Schwei
 z;X-APPLE-RADIUS=100;X-TITLE=Temple Allemand:geo:47.14135845,7.24655375627
 21
END:VEVENT
BEGIN:VTIMEZONE
TZID:Europe/Zurich
X-LIC-LOCATION:Europe/Zurich
BEGIN:STANDARD
DTSTART:20251026T020000
TZOFFSETFROM:+0200
TZOFFSETTO:+0100
TZNAME:CET
END:STANDARD
END:VTIMEZONE
END:VCALENDAR