BEGIN:VCALENDAR
VERSION:2.0
PRODID:-//wp-events-plugin.com//7.2.3.1//EN
TZID:Europe/Zurich
X-WR-TIMEZONE:Europe/Zurich
BEGIN:VEVENT
UID:6339@ref-nidau.ch
DTSTART;TZID=Europe/Zurich:20260628T100000
DTEND;TZID=Europe/Zurich:20260628T110000
DTSTAMP:20260420T114037Z
URL:https://ref-nidau.ch/anlaesse/culte-oeuvre-dans-pasquart/
SUMMARY:Culte\, oeuvre dans Pasquart
DESCRIPTION:Cédric Némitz\, pasteur
ATTACH;FMTTYPE=image/jpeg:https://ref-nidau.ch/wp-content/uploads/2026/06/
 Eglise_du_Pasquart.jpg
CATEGORIES:Communauté romande
LOCATION:Église du Pasquart\, Biel/Bienne\, 2502\, Schweiz
GEO:47.140285466656024;7.241878509521485
X-APPLE-STRUCTURED-LOCATION;VALUE=URI;X-ADDRESS=Biel/Bienne\, 2502\, Schwei
 z;X-APPLE-RADIUS=100;X-TITLE=Église du Pasquart:geo:47.140285466656024,7.
 241878509521485
END:VEVENT
BEGIN:VTIMEZONE
TZID:Europe/Zurich
X-LIC-LOCATION:Europe/Zurich
BEGIN:DAYLIGHT
DTSTART:20260329T030000
TZOFFSETFROM:+0100
TZOFFSETTO:+0200
TZNAME:CEST
END:DAYLIGHT
END:VTIMEZONE
END:VCALENDAR