BEGIN:VCALENDAR
VERSION:2.0
PRODID:-//wp-events-plugin.com//7.2.3.1//EN
TZID:Europe/Zurich
X-WR-TIMEZONE:Europe/Zurich
BEGIN:VEVENT
UID:5635@ref-nidau.ch
DTSTART;TZID=Europe/Zurich:20251017T093000
DTEND;TZID=Europe/Zurich:20251017T103000
DTSTAMP:20251029T104242Z
URL:https://ref-nidau.ch/anlaesse/everdance60-3/
SUMMARY:Everdance®60+
DESCRIPTION:Everdance…\n•	ist eine wunderbare Bewegungsmöglichkeit fü
 r Personen 60+. Natürlich können auch jüngere Personen mittanzen.\n•	
 ist Spass an Musik\, Bewegung und Rhythmus.\n•	wird zu Musik\, vom Everg
 reen bis zum aktuellen Schlager\, getanzt.\n•	braucht keine Tanzpartneri
 n\, keinen Tanzpartner.\n•	wird solo und in der Gruppe getanzt.\n•	sin
 d Schritte aus Gesellschaftstänzen\, wie Walzer\, Cha-Cha-Cha\, Tango\, R
 umba\, Samba\, usw.\n\nInfos und Anmeldung:\nNelly Furer\, T. 079 940 03 9
 2
ATTACH;FMTTYPE=image/jpeg:https://ref-nidau.ch/wp-content/uploads/2025/10/
 2023-05-05-Nelly-Nidau-Tanzen-Teil-I-8036DONE-6-scaled-6.jpg
LOCATION:Kirchgemeindehaus\, Nidau\, 2560\, Schweiz
GEO:47.12302;7.2488
X-APPLE-STRUCTURED-LOCATION;VALUE=URI;X-ADDRESS=Nidau\, 2560\, Schweiz;X-AP
 PLE-RADIUS=100;X-TITLE=Kirchgemeindehaus:geo:47.12302,7.2488
END:VEVENT
BEGIN:VTIMEZONE
TZID:Europe/Zurich
X-LIC-LOCATION:Europe/Zurich
BEGIN:DAYLIGHT
DTSTART:20250330T030000
TZOFFSETFROM:+0100
TZOFFSETTO:+0200
TZNAME:CEST
END:DAYLIGHT
END:VTIMEZONE
END:VCALENDAR