BEGIN:VCALENDAR
VERSION:2.0
PRODID:-//wp-events-plugin.com//7.2.3.1//EN
TZID:Europe/Zurich
X-WR-TIMEZONE:Europe/Zurich
BEGIN:VEVENT
UID:5653@ref-nidau.ch
DTSTART;TZID=Europe/Zurich:20251026T100000
DTEND;TZID=Europe/Zurich:20251026T110000
DTSTAMP:20251031T233434Z
URL:https://ref-nidau.ch/anlaesse/familiengottesdienst/
SUMMARY:Familiengottesdienst (Start 10 Uhr Winterzeit)
DESCRIPTION:Peter Geissbühler\, Pfarrer  und Team
ATTACH;FMTTYPE=image/jpeg:https://ref-nidau.ch/wp-content/uploads/2025/10/
 Haus-Meer-Sand-Felsen-1-Quadrat-Adobe.jpg
CATEGORIES:Gottesdienste
LOCATION:Zentrum Ipsach\, Ipsach\, 2563\, Schweiz
GEO:47.1151391;7.234261703480191
X-APPLE-STRUCTURED-LOCATION;VALUE=URI;X-ADDRESS=Ipsach\, 2563\, Schweiz;X-A
 PPLE-RADIUS=100;X-TITLE=Zentrum Ipsach:geo:47.1151391,7.234261703480191
END:VEVENT
BEGIN:VTIMEZONE
TZID:Europe/Zurich
X-LIC-LOCATION:Europe/Zurich
BEGIN:STANDARD
DTSTART:20251026T020000
TZOFFSETFROM:+0200
TZOFFSETTO:+0100
TZNAME:CET
END:STANDARD
END:VTIMEZONE
END:VCALENDAR