BEGIN:VCALENDAR
VERSION:2.0
PRODID:-//wp-events-plugin.com//7.2.3.1//EN
TZID:Europe/Zurich
X-WR-TIMEZONE:Europe/Zurich
BEGIN:VEVENT
UID:5717@ref-nidau.ch
DTSTART;TZID=Europe/Zurich:20251123T100000
DTEND;TZID=Europe/Zurich:20251123T110000
DTSTAMP:20251128T233421Z
URL:https://ref-nidau.ch/anlaesse/feier-zum-ewigkeits-sonntag/
SUMMARY:Feier zum Ewigkeits-Sonntag
DESCRIPTION:Abschiede ins Leben holen - eine besinnliche Feier zum Ewigkeit
 ssonntag \n\nAm letzten Sonntag des Kirchenjahrs\, dem Sonntag vor dem 1. 
 Advent\, schauen wir zurück und gedenken namentlich der Verstorbenen in u
 nserer Kirchgemeinde. Für Angehörige kann es ein weiterer Schritt im Tra
 uerprozess sein\, für andere eine Möglichkeit\, in einem rituellen Rahme
 n jemandem still ein «Adieu!» auszurichten. Wer möchte\, kann in aller 
 Ruhe und von Musik begleitet zum Gruss eine kleine Kerze im Chor anzünden
 . Zuversicht und Vertrauen sollen nach Möglichkeit Raum bekommen.\n\nAnna
  Maria Raszynska\, Querflöte \nUrsula Weingart\, Orgel \n\nSilvia Liniger
 \, Pfarrerin\nUrs Zangger\, Pfarrer
ATTACH;FMTTYPE=image/jpeg:https://ref-nidau.ch/wp-content/uploads/2025/11/
 candles-4715408-scaled.jpg
CATEGORIES:Gottesdienste
LOCATION:Kirche Nidau\, Mittelstrasse 1\, Nidau\, 2560\, Schweiz
GEO:47.125117;7.240367
X-APPLE-STRUCTURED-LOCATION;VALUE=URI;X-ADDRESS=Mittelstrasse 1\, Nidau\, 2
 560\, Schweiz;X-APPLE-RADIUS=100;X-TITLE=Kirche Nidau:geo:47.125117,7.2403
 67
END:VEVENT
BEGIN:VTIMEZONE
TZID:Europe/Zurich
X-LIC-LOCATION:Europe/Zurich
BEGIN:STANDARD
DTSTART:20251026T020000
TZOFFSETFROM:+0200
TZOFFSETTO:+0100
TZNAME:CET
END:STANDARD
END:VTIMEZONE
END:VCALENDAR