BEGIN:VCALENDAR
VERSION:2.0
PRODID:-//wp-events-plugin.com//7.2.3.1//EN
TZID:Europe/Zurich
X-WR-TIMEZONE:Europe/Zurich
BEGIN:VEVENT
UID:434@ref-nidau.ch
DTSTART;TZID=Europe/Zurich:20200306T164500
DTEND;TZID=Europe/Zurich:20200403T174500
DTSTAMP:20191229T214154Z
URL:https://ref-nidau.ch/event-recurring/floetenkreis-3/
SUMMARY:Flötenkreis
DESCRIPTION:Neu-Interessierte sind herzlich willkommen!\n\nKontakt:\n\nVere
 na Moser\n\n032 331 59 80
LOCATION:Nikolauskapelle Nidau\, Mittelstrasse 1\, Nidau\, BE\, 2560\, Bern
 \, Schweiz
GEO:47.125078;7.240195
X-APPLE-STRUCTURED-LOCATION;VALUE=URI;X-ADDRESS=Mittelstrasse 1\, Nidau\, B
 E\, 2560\, Bern\, Schweiz;X-APPLE-RADIUS=100;X-TITLE=Nikolauskapelle Nidau
 :geo:47.125078,7.240195
END:VEVENT
BEGIN:VTIMEZONE
TZID:Europe/Zurich
X-LIC-LOCATION:Europe/Zurich
BEGIN:STANDARD
DTSTART:20191027T020000
TZOFFSETFROM:+0200
TZOFFSETTO:+0100
TZNAME:CET
END:STANDARD
BEGIN:DAYLIGHT
DTSTART:20200329T030000
TZOFFSETFROM:+0100
TZOFFSETTO:+0200
TZNAME:CEST
END:DAYLIGHT
END:VTIMEZONE
END:VCALENDAR