BEGIN:VCALENDAR
VERSION:2.0
PRODID:-//wp-events-plugin.com//7.2.3.1//EN
TZID:Europe/Zurich
X-WR-TIMEZONE:Europe/Zurich
BEGIN:VEVENT
UID:5644@ref-nidau.ch
DTSTART;TZID=Europe/Zurich:20251021T093000
DTEND;TZID=Europe/Zurich:20251021T110000
DTSTAMP:20251029T104243Z
URL:https://ref-nidau.ch/anlaesse/frauenforum-21/
SUMMARY:Frauenforum
DESCRIPTION:"Über Gott und die Welt".\nImpulse bereichern\, weil wir mitei
 nander ins Gespräch kommen.\nDie Themen ergeben sich aus dem\, was uns in
 teressiert. \nPfarrer Urs Zangger\, T. 079 326 65 68
ATTACH;FMTTYPE=image/jpeg:https://ref-nidau.ch/wp-content/uploads/2025/10/
 giraffes-627033.jpg
CATEGORIES:Frauen
LOCATION:Kapelle\, Nidau\, 2560\, Schweiz
GEO:47.12507464536923;7.2397750080378485
X-APPLE-STRUCTURED-LOCATION;VALUE=URI;X-ADDRESS=Nidau\, 2560\, Schweiz;X-AP
 PLE-RADIUS=100;X-TITLE=Kapelle:geo:47.12507464536923,7.2397750080378485
END:VEVENT
BEGIN:VTIMEZONE
TZID:Europe/Zurich
X-LIC-LOCATION:Europe/Zurich
BEGIN:DAYLIGHT
DTSTART:20250330T030000
TZOFFSETFROM:+0100
TZOFFSETTO:+0200
TZNAME:CEST
END:DAYLIGHT
END:VTIMEZONE
END:VCALENDAR