BEGIN:VCALENDAR
VERSION:2.0
PRODID:-//wp-events-plugin.com//7.2.3.1//EN
TZID:Europe/Zurich
X-WR-TIMEZONE:Europe/Zurich
BEGIN:VEVENT
UID:5655@ref-nidau.ch
DTSTART;TZID=Europe/Zurich:20251026T170000
DTEND;TZID=Europe/Zurich:20251026T183000
DTSTAMP:20251031T233434Z
URL:https://ref-nidau.ch/anlaesse/fruehbarockes-konzert/
SUMMARY:Frühbarockes Konzert
DESCRIPTION:Passacaglia – Übergänge\nFrühbarockes Konzert mit Zink\, S
 treicher\, Orgel und Theorbe. - Werke von A. Falconiero\, M. Uccelini\, A.
  Bertali\, A. Heiniger\, J. Dowland.\n\nMit dem collegium musicum biel mit
  barocken Instrumenten:\nHans Jakob Bollinger\, Zink\nAndreas Heiniger\, V
 ioline\nMelanie Kind\, Violine\nBarbara Müller\, Viola\, Violine\nKatrin 
 Luterbacher\, Violoncello\nAndreas Scheufler\, Orgel\nAdrian Blanco Peñar
 anda\, Theorbe\n\nKollekte (Richtpreis Fr. 30.-)
ATTACH;FMTTYPE=image/jpeg:https://ref-nidau.ch/wp-content/uploads/2025/10/
 P1140033-1.jpg
CATEGORIES:Musik
LOCATION:Kirche\, Nidau\, 2560\, Schweiz
GEO:47.12508;7.24033
X-APPLE-STRUCTURED-LOCATION;VALUE=URI;X-ADDRESS=Nidau\, 2560\, Schweiz;X-AP
 PLE-RADIUS=100;X-TITLE=Kirche:geo:47.12508,7.24033
END:VEVENT
BEGIN:VTIMEZONE
TZID:Europe/Zurich
X-LIC-LOCATION:Europe/Zurich
BEGIN:STANDARD
DTSTART:20251026T020000
TZOFFSETFROM:+0200
TZOFFSETTO:+0100
TZNAME:CET
END:STANDARD
END:VTIMEZONE
END:VCALENDAR