BEGIN:VCALENDAR
VERSION:2.0
PRODID:-//wp-events-plugin.com//7.2.3.1//EN
TZID:Europe/Zurich
X-WR-TIMEZONE:Europe/Zurich
BEGIN:VEVENT
UID:5861@ref-nidau.ch
DTSTART;TZID=Europe/Zurich:20251103T190000
DTEND;TZID=Europe/Zurich:20251103T210000
DTSTAMP:20251108T233426Z
URL:https://ref-nidau.ch/anlaesse/glaube-und-kritisches-denken-kurs-erwach
 senenbildung/
SUMMARY:Glaube und kritisches Denken\, Kurs Erwachsenenbildung
DESCRIPTION:Für viele Menschen scheint es eine klare Alternative: Entweder
  glaube ich an Gott und die Bibel\; dann muss ich auch mein kritisches Den
 ken der Wahrheit dieses Glaubens unterwerfen. Oder ich verlasse mich auf d
 ie Erkenntnisse der modernen Wissenschaften\; und löse mich gänzlich vom
  Weltbild der Bibel. In diesem Seminar geht es um diese Einsicht\, dass di
 ese Alternative von Anfang an falsch ist. Tatsächlich hat es in der Gesch
 ichte des Christentums sehr viele Impulse gegeben\, die Glauben und Denken
  verbinden anstatt sie zu entzweien.\n\nReferat und Austausch mit Prof. Dr
 . Thorsten Dietz\, deutsch-evangelischer Theologe und seit 2022 für Fokus
  Theologie\, einer Fachstelle für evangelische Erwachsenenbildung der Ref
 ormierten Kirche des Kantons Zürich\, tätig. \n\nAnmeldung für den kost
 enlosen Abend gerne bis 26. Oktober an peter.geissbuehler@ref-nidau.ch\n\n
 Ein zweiter Abend zum Thema "Glauben mit Verstand – zu einer reflektiert
 en Spiritualität" findet am 17. November statt (Impulsreferat sowie Austa
 usch in Gruppen und im Plenum mit Evelyne Baumberger\, Theologin\, Co-Leit
 erin reflab.ch)
ATTACH;FMTTYPE=image/jpeg:https://ref-nidau.ch/wp-content/uploads/2025/11/
 Dietz-Thorsten.2JPG-1-scaled.jpg
LOCATION:Zentrum Ipsach\, Ipsach\, 2563\, Schweiz
GEO:47.1151391;7.234261703480191
X-APPLE-STRUCTURED-LOCATION;VALUE=URI;X-ADDRESS=Ipsach\, 2563\, Schweiz;X-A
 PPLE-RADIUS=100;X-TITLE=Zentrum Ipsach:geo:47.1151391,7.234261703480191
END:VEVENT
BEGIN:VTIMEZONE
TZID:Europe/Zurich
X-LIC-LOCATION:Europe/Zurich
BEGIN:STANDARD
DTSTART:20251026T020000
TZOFFSETFROM:+0200
TZOFFSETTO:+0100
TZNAME:CET
END:STANDARD
END:VTIMEZONE
END:VCALENDAR