BEGIN:VCALENDAR
VERSION:2.0
PRODID:-//wp-events-plugin.com//7.2.3.1//EN
TZID:Europe/Zurich
X-WR-TIMEZONE:Europe/Zurich
BEGIN:VEVENT
UID:5641@ref-nidau.ch
DTSTART;TZID=Europe/Zurich:20251019T100000
DTEND;TZID=Europe/Zurich:20251019T110000
DTSTAMP:20251029T104243Z
URL:https://ref-nidau.ch/anlaesse/gottesdienst-mit-erntedank-bilingue/
SUMMARY:Gottesdienst\, mit Erntedank\, bilingue
DESCRIPTION:Mit Chor Ipsach\nPeter Geissbühler\, Pfarrer\nCédric Némitz\
 , pasteur
ATTACH;FMTTYPE=image/jpeg:https://ref-nidau.ch/wp-content/uploads/2025/10/
 fruit-1703999_1280.jpg
CATEGORIES:Communauté romande,Gottesdienste
LOCATION:Kirche Nidau\, Mittelstrasse 1\, Nidau\, 2560\, Schweiz
GEO:47.125117;7.240367
X-APPLE-STRUCTURED-LOCATION;VALUE=URI;X-ADDRESS=Mittelstrasse 1\, Nidau\, 2
 560\, Schweiz;X-APPLE-RADIUS=100;X-TITLE=Kirche Nidau:geo:47.125117,7.2403
 67
END:VEVENT
BEGIN:VTIMEZONE
TZID:Europe/Zurich
X-LIC-LOCATION:Europe/Zurich
BEGIN:DAYLIGHT
DTSTART:20250330T030000
TZOFFSETFROM:+0100
TZOFFSETTO:+0200
TZNAME:CEST
END:DAYLIGHT
END:VTIMEZONE
END:VCALENDAR