BEGIN:VCALENDAR
VERSION:2.0
PRODID:-//wp-events-plugin.com//7.2.3.1//EN
TZID:Europe/Zurich
X-WR-TIMEZONE:Europe/Zurich
BEGIN:VEVENT
UID:5669@ref-nidau.ch
DTSTART;TZID=Europe/Zurich:20251102T100000
DTEND;TZID=Europe/Zurich:20251102T110000
DTSTAMP:20251107T233413Z
URL:https://ref-nidau.ch/anlaesse/gottesdienst-zum-visionssonntag-mit-kuw-
 5-klasse/
SUMMARY:Gottesdienst zum Visionssonntag\, mit KUW 5. Klasse
DESCRIPTION:Wir formen Leben\n\nEin Geschenk verkörpern wir. Es ist das Le
 ben. Mit ihm werden wir vertraut\, manchmal wirkt es fremd und wir müssen
  zu einem Ausgangspunkt zurück: Erkennen wir darin noch Ursprüngliches? 
 Was wollen wir anfangen?\n\nDas Leben formen - ganz persönlich und auch i
 n unserer vielgestaltigen Gesellschaft\, spannend zu jeder Zeit! \n\nMit d
 em Leitgedanken «Die Gegenwart gestalten – auf Gottes Zukunft setzen» 
 geben die reformierten Berner Kirchen einen Anstoss zur «Re-Formation».\
 n\nDieses Thema begleitet uns am abwechslungsreichen Gottesdienst am Visio
 nssonntag.\n\nMit dem Gemischten Chor Port\nPavel Stöckmann  (Piano)\nNor
 a Dürst\, Katechetin und KUW 5. Klasse\nUrs Zangger\, Pfarrer
ATTACH;FMTTYPE=image/jpeg:https://ref-nidau.ch/wp-content/uploads/2025/11/
 Matthaeuszentrum-innen-1-5-scaled.jpg
CATEGORIES:Gottesdienste
LOCATION:Matthäus-Zentrum\, Port\, 2562\, Schweiz
GEO:47.11725495;7.255539038860412
X-APPLE-STRUCTURED-LOCATION;VALUE=URI;X-ADDRESS=Port\, 2562\, Schweiz;X-APP
 LE-RADIUS=100;X-TITLE=Matthäus-Zentrum:geo:47.11725495,7.255539038860412
END:VEVENT
BEGIN:VTIMEZONE
TZID:Europe/Zurich
X-LIC-LOCATION:Europe/Zurich
BEGIN:STANDARD
DTSTART:20251026T020000
TZOFFSETFROM:+0200
TZOFFSETTO:+0100
TZNAME:CET
END:STANDARD
END:VTIMEZONE
END:VCALENDAR