BEGIN:VCALENDAR
VERSION:2.0
PRODID:-//wp-events-plugin.com//7.2.3.1//EN
TZID:Europe/Zurich
X-WR-TIMEZONE:Europe/Zurich
BEGIN:VEVENT
UID:6210@ref-nidau.ch
DTSTART;TZID=Europe/Zurich:20260216T133000
DTEND;TZID=Europe/Zurich:20260216T170000
DTSTAMP:20260221T231928Z
URL:https://ref-nidau.ch/anlaesse/kaffee-spiele-im-cafe-matz-2/
SUMMARY:Kaffee & Spiele im Café Matz
DESCRIPTION:Café Matz ist ein Ort der Begegnung. Hier können Kinder spiel
 en während Eltern ein cremiges Cappuccino geniessen. Senior:innen haben e
 inen gemütlichen Ort um sich auszutauschen. Das Café Matz im Matthäus-Z
 entrum bietet Raum für neue Möglichkeiten.\n\nIn Zusammenarbeit mit dem 
 Frauenverein Port findet im Café Matz am 19. Januar\, 16. Februar und 16.
  März ein geselliger Spielnachmittag für alle statt.\n\nAndrin Lehmann\,
  Eventorganisator Matthäus-Zentrum Port\, andrin.lehmann@ref-nidau.ch
ATTACH;FMTTYPE=image/jpeg:https://ref-nidau.ch/wp-content/uploads/2026/02/
 CoPilot_Bildidee_Spielnachmittag.png
LOCATION:Matthäus-Zentrum Port\, Port\, 2562\, Schweiz
GEO:47.11725495;7.2555390388604
X-APPLE-STRUCTURED-LOCATION;VALUE=URI;X-ADDRESS=Port\, 2562\, Schweiz;X-APP
 LE-RADIUS=100;X-TITLE=Matthäus-Zentrum Port:geo:47.11725495,7.25553903886
 04
END:VEVENT
BEGIN:VTIMEZONE
TZID:Europe/Zurich
X-LIC-LOCATION:Europe/Zurich
BEGIN:STANDARD
DTSTART:20251026T020000
TZOFFSETFROM:+0200
TZOFFSETTO:+0100
TZNAME:CET
END:STANDARD
END:VTIMEZONE
END:VCALENDAR