BEGIN:VCALENDAR
VERSION:2.0
PRODID:-//wp-events-plugin.com//7.2.3.1//EN
TZID:Europe/Zurich
X-WR-TIMEZONE:Europe/Zurich
BEGIN:VEVENT
UID:5633@ref-nidau.ch
DTSTART;TZID=Europe/Zurich:20251016T143000
DTEND;TZID=Europe/Zurich:20251016T163000
DTSTAMP:20251029T104242Z
URL:https://ref-nidau.ch/anlaesse/kaffeetreff-3/
SUMMARY:Kaffeetreff.
DESCRIPTION:Gemütlicher Nachmittag mit Themen-Gesprächen\, Spielen\, Kaff
 ee\, Tee und Kuchen
ATTACH;FMTTYPE=image/jpeg:https://ref-nidau.ch/wp-content/uploads/2025/10/
 coffee-4618705_1920.jpg
CATEGORIES:Kaffeetreff / Kaffee offen
LOCATION:Zentrum Ipsach\, Ipsach\, 2563\, Schweiz
GEO:47.1151391;7.234261703480191
X-APPLE-STRUCTURED-LOCATION;VALUE=URI;X-ADDRESS=Ipsach\, 2563\, Schweiz;X-A
 PPLE-RADIUS=100;X-TITLE=Zentrum Ipsach:geo:47.1151391,7.234261703480191
END:VEVENT
BEGIN:VTIMEZONE
TZID:Europe/Zurich
X-LIC-LOCATION:Europe/Zurich
BEGIN:DAYLIGHT
DTSTART:20250330T030000
TZOFFSETFROM:+0100
TZOFFSETTO:+0200
TZNAME:CEST
END:DAYLIGHT
END:VTIMEZONE
END:VCALENDAR