BEGIN:VCALENDAR
VERSION:2.0
PRODID:-//wp-events-plugin.com//7.2.3.1//EN
TZID:Europe/Zurich
X-WR-TIMEZONE:Europe/Zurich
BEGIN:VEVENT
UID:5846@ref-nidau.ch
DTSTART;TZID=Europe/Zurich:20251027T183000
DTEND;TZID=Europe/Zurich:20251027T194500
DTSTAMP:20251101T233359Z
URL:https://ref-nidau.ch/anlaesse/kontemplation-8/
SUMMARY:Kontemplation
DESCRIPTION:Einfach.\n\nLeben ist nicht einfach. Es fordert uns. Und tief i
 n uns ist etwas einfach gegenwärtig. Mit ihm sind wir mit allem eins – 
 jenseits von Gegensätzen\, in denen wir uns aufreiben. In dieser Ausricht
 ung üben wir die gegenstandslose Meditation. Sitzen. Atmen. Sind da. Ohne
  Wenn und Aber. Einfach.\n\nKapelle Nidau\, 18:30-19:45h\nAnmeldung bei Ur
 s Zangger\, Pfarrer\nurs.zangger@ref-nidau.ch\, T. 079 326 65 68
ATTACH;FMTTYPE=image/jpeg:https://ref-nidau.ch/wp-content/uploads/2025/10/
 IMG_4186.jpg
CATEGORIES:Meditation
LOCATION:Kapelle\, Nidau\, 2560\, Schweiz
GEO:47.12507464536923;7.2397750080378485
X-APPLE-STRUCTURED-LOCATION;VALUE=URI;X-ADDRESS=Nidau\, 2560\, Schweiz;X-AP
 PLE-RADIUS=100;X-TITLE=Kapelle:geo:47.12507464536923,7.2397750080378485
END:VEVENT
BEGIN:VTIMEZONE
TZID:Europe/Zurich
X-LIC-LOCATION:Europe/Zurich
BEGIN:STANDARD
DTSTART:20251026T020000
TZOFFSETFROM:+0200
TZOFFSETTO:+0100
TZNAME:CET
END:STANDARD
END:VTIMEZONE
END:VCALENDAR