BEGIN:VCALENDAR
VERSION:2.0
PRODID:-//wp-events-plugin.com//7.2.3.1//EN
TZID:Europe/Zurich
X-WR-TIMEZONE:Europe/Zurich
BEGIN:VEVENT
UID:5903@ref-nidau.ch
DTSTART;TZID=Europe/Zurich:20251109T170000
DTEND;TZID=Europe/Zurich:20251109T190000
DTSTAMP:20251114T233419Z
URL:https://ref-nidau.ch/anlaesse/konzert-chor-ipsach-2/
SUMMARY:Konzert Chor Ipsach
DESCRIPTION:Michael Haydn: Requiem in c (1771) \nJoseph Haydn: Missa in Ang
 ustiis /Nelsonmesse (1798). \n\nKonzert mit:\nChelsea Zurflüh\, Sopran | 
 Barbara Magdalena Erni\, Alt | Michael Mogl\, Tenor | Henryk Böhm\, Bass\
 nCapriccio Barockorchester (Konzertmeister: Dominik Kiefer) \nChor Ipsach 
 (Mona Spägele\, Leitung)\n\nVorverkauf ab 1. September: www.chor-Ipsach.c
 h sowie ab 20. Oktober auch bei Buchhaus Lüthy\, Biel oder T. 032 333 18 
 25.\nAbendkasse: 1 Stunde vor Konzertbeginn\nPreise: Fr. 60.00 / 45.00 - R
 eduktion für U26 & Kulturlegi
ATTACH;FMTTYPE=image/jpeg:https://ref-nidau.ch/wp-content/uploads/2025/11/
 image1003526.png
LOCATION:Eglise du Pasquart\, Biel\, 2502\, 
GEO:47.13992105;7.2435455122691
X-APPLE-STRUCTURED-LOCATION;VALUE=URI;X-ADDRESS=Biel\, 2502\, ;X-APPLE-RADI
 US=100;X-TITLE=Eglise du Pasquart:geo:47.13992105,7.2435455122691
END:VEVENT
BEGIN:VTIMEZONE
TZID:Europe/Zurich
X-LIC-LOCATION:Europe/Zurich
BEGIN:STANDARD
DTSTART:20251026T020000
TZOFFSETFROM:+0200
TZOFFSETTO:+0100
TZNAME:CET
END:STANDARD
END:VTIMEZONE
END:VCALENDAR