BEGIN:VCALENDAR
VERSION:2.0
PRODID:-//wp-events-plugin.com//7.2.3.1//EN
TZID:Europe/Zurich
X-WR-TIMEZONE:Europe/Zurich
BEGIN:VEVENT
UID:5795@ref-nidau.ch
DTSTART;TZID=Europe/Zurich:20260128T133000
DTEND;TZID=Europe/Zurich:20260128T163000
DTSTAMP:20260202T234151Z
URL:https://ref-nidau.ch/anlaesse/kuw-3-klasse-nidau-ipsach-bellmund-2/
SUMMARY:KUW 3. Klasse Nidau\, Ipsach\, Bellmund
DESCRIPTION:
CATEGORIES:KUW
LOCATION:Unterrichtsraum Ipsach\, Ipsach\, 2563\, Schweiz
GEO:47.1151391;7.2342617034802
X-APPLE-STRUCTURED-LOCATION;VALUE=URI;X-ADDRESS=Ipsach\, 2563\, Schweiz;X-A
 PPLE-RADIUS=100;X-TITLE=Unterrichtsraum Ipsach:geo:47.1151391,7.2342617034
 802
END:VEVENT
BEGIN:VTIMEZONE
TZID:Europe/Zurich
X-LIC-LOCATION:Europe/Zurich
BEGIN:STANDARD
DTSTART:20251026T020000
TZOFFSETFROM:+0200
TZOFFSETTO:+0100
TZNAME:CET
END:STANDARD
END:VTIMEZONE
END:VCALENDAR