BEGIN:VCALENDAR
VERSION:2.0
PRODID:-//wp-events-plugin.com//7.2.3.1//EN
TZID:Europe/Zurich
X-WR-TIMEZONE:Europe/Zurich
BEGIN:VEVENT
UID:5794@ref-nidau.ch
DTSTART;TZID=Europe/Zurich:20260123T133000
DTEND;TZID=Europe/Zurich:20260123T163000
DTSTAMP:20260128T233510Z
URL:https://ref-nidau.ch/anlaesse/kuw-3-klasse-port/
SUMMARY:KUW 3. Klasse Port
DESCRIPTION:
CATEGORIES:KUW
LOCATION:Matthäus-Zentrum\, Port\, 2562\, Schweiz
GEO:47.11725495;7.255539038860412
X-APPLE-STRUCTURED-LOCATION;VALUE=URI;X-ADDRESS=Port\, 2562\, Schweiz;X-APP
 LE-RADIUS=100;X-TITLE=Matthäus-Zentrum:geo:47.11725495,7.255539038860412
END:VEVENT
BEGIN:VTIMEZONE
TZID:Europe/Zurich
X-LIC-LOCATION:Europe/Zurich
BEGIN:STANDARD
DTSTART:20251026T020000
TZOFFSETFROM:+0200
TZOFFSETTO:+0100
TZNAME:CET
END:STANDARD
END:VTIMEZONE
END:VCALENDAR