BEGIN:VCALENDAR
VERSION:2.0
PRODID:-//wp-events-plugin.com//7.2.3.1//EN
TZID:Europe/Zurich
X-WR-TIMEZONE:Europe/Zurich
BEGIN:VEVENT
UID:5647@ref-nidau.ch
DTSTART;TZID=Europe/Zurich:20251022T133000
DTEND;TZID=Europe/Zurich:20251022T163000
DTSTAMP:20251029T104243Z
URL:https://ref-nidau.ch/anlaesse/kuw-3/
SUMMARY:KUW 4. Klasse Nidau\, Ipsach und Bellmund
DESCRIPTION:
ATTACH;FMTTYPE=image/jpeg:https://ref-nidau.ch/wp-content/uploads/2025/10/
 09_FB_RG_Jesus_Children_Thumbnail.jpg
CATEGORIES:KUW
LOCATION:Kirchgemeindehaus\, Nidau\, 2560\, Schweiz
GEO:47.12302;7.2488
X-APPLE-STRUCTURED-LOCATION;VALUE=URI;X-ADDRESS=Nidau\, 2560\, Schweiz;X-AP
 PLE-RADIUS=100;X-TITLE=Kirchgemeindehaus:geo:47.12302,7.2488
END:VEVENT
BEGIN:VTIMEZONE
TZID:Europe/Zurich
X-LIC-LOCATION:Europe/Zurich
BEGIN:DAYLIGHT
DTSTART:20250330T030000
TZOFFSETFROM:+0100
TZOFFSETTO:+0200
TZNAME:CEST
END:DAYLIGHT
END:VTIMEZONE
END:VCALENDAR