BEGIN:VCALENDAR
VERSION:2.0
PRODID:-//wp-events-plugin.com//7.2.3.1//EN
TZID:Europe/Zurich
X-WR-TIMEZONE:Europe/Zurich
BEGIN:VEVENT
UID:5678@ref-nidau.ch
DTSTART;TZID=Europe/Zurich:20251105T140000
DTEND;TZID=Europe/Zurich:20251105T163000
DTSTAMP:20251110T233355Z
URL:https://ref-nidau.ch/anlaesse/kuw-7-klasse-nidau-2/
SUMMARY:KUW 7. Klasse Nidau
DESCRIPTION:KUW Unterricht mit Peter Geissbühler
CATEGORIES:KUW
LOCATION:Zentrum Ipsach\, \, 
X-APPLE-STRUCTURED-LOCATION;VALUE=URI;X-ADDRESS=\, ;X-APPLE-RADIUS=100;X-TI
 TLE=Zentrum Ipsach:geo:0,0
END:VEVENT
BEGIN:VTIMEZONE
TZID:Europe/Zurich
X-LIC-LOCATION:Europe/Zurich
BEGIN:STANDARD
DTSTART:20251026T020000
TZOFFSETFROM:+0200
TZOFFSETTO:+0100
TZNAME:CET
END:STANDARD
END:VTIMEZONE
END:VCALENDAR