BEGIN:VCALENDAR
VERSION:2.0
PRODID:-//wp-events-plugin.com//7.2.3.1//EN
TZID:Europe/Zurich
X-WR-TIMEZONE:Europe/Zurich
BEGIN:VEVENT
UID:5626@ref-nidau.ch
DTSTART;TZID=Europe/Zurich:20251013T190000
DTEND;TZID=Europe/Zurich:20251013T213000
DTSTAMP:20251029T104242Z
URL:https://ref-nidau.ch/anlaesse/lesezirkel-fuer-frauen-28/
SUMMARY:Lesezirkel für Frauen
DESCRIPTION:Wir lesen und besprechen: "Aufrechtgehen. Es ist Zeit zu schrei
 ben." ISBN 978-3-033-08732-3\nAuskunft: Barbara Meyer Schaefer\, Hauptstra
 sse 63\, 2560 Nidau
ATTACH;FMTTYPE=image/jpeg:https://ref-nidau.ch/wp-content/uploads/2025/10/
 book-1283865_1920.jpg
CATEGORIES:Lesezirkel
LOCATION:Kirchgemeindehaus\, Nidau\, 2560\, Schweiz
GEO:47.12302;7.2488
X-APPLE-STRUCTURED-LOCATION;VALUE=URI;X-ADDRESS=Nidau\, 2560\, Schweiz;X-AP
 PLE-RADIUS=100;X-TITLE=Kirchgemeindehaus:geo:47.12302,7.2488
END:VEVENT
BEGIN:VTIMEZONE
TZID:Europe/Zurich
X-LIC-LOCATION:Europe/Zurich
BEGIN:DAYLIGHT
DTSTART:20250330T030000
TZOFFSETFROM:+0100
TZOFFSETTO:+0200
TZNAME:CEST
END:DAYLIGHT
END:VTIMEZONE
END:VCALENDAR