BEGIN:VCALENDAR
VERSION:2.0
PRODID:-//wp-events-plugin.com//7.2.3.1//EN
TZID:Europe/Zurich
X-WR-TIMEZONE:Europe/Zurich
BEGIN:VEVENT
UID:6529@ref-nidau.ch
DTSTART;TZID=Europe/Zurich:20260322T170000
DTEND;TZID=Europe/Zurich:20260322T174500
DTSTAMP:20260327T232229Z
URL:https://ref-nidau.ch/anlaesse/menschmaenner-kunst-und-kunsthandwerk-2/
SUMMARY:MenschMänner! Kunstvesper mit dem Kinderchor Cantolino
DESCRIPTION:Im Rahmen des Jahresthemas "Kunst des Mannseins" heute: Kunstve
 sper mit dem Kinderchor Cantolino. Anschliessend Sitzkreis MenschMänner! 
 Austausch\, Nachklingen des Erlebten.\nInfos und Anmeldung: Jan Hartmann\,
  jan@mensch-maenner.ch
ATTACH;FMTTYPE=image/jpeg:https://ref-nidau.ch/wp-content/uploads/2026/03/
 2026-03-22-Kinderchor_Cantolino-scaled-1.jpg
CATEGORIES:Männer
LOCATION:Temple Allemand / Stadtkirche Biel\, Biel / Bienne\, Vieille Ville
  / Altstadt\, 2502\, Schweiz
GEO:47.14135845;7.2465537562721
X-APPLE-STRUCTURED-LOCATION;VALUE=URI;X-ADDRESS=Biel / Bienne\, Vieille Vil
 le / Altstadt\, 2502\, Schweiz;X-APPLE-RADIUS=100;X-TITLE=Temple Allemand 
 / Stadtkirche Biel:geo:47.14135845,7.2465537562721
END:VEVENT
BEGIN:VTIMEZONE
TZID:Europe/Zurich
X-LIC-LOCATION:Europe/Zurich
BEGIN:STANDARD
DTSTART:20251026T020000
TZOFFSETFROM:+0200
TZOFFSETTO:+0100
TZNAME:CET
END:STANDARD
END:VTIMEZONE
END:VCALENDAR