BEGIN:VCALENDAR
VERSION:2.0
PRODID:-//wp-events-plugin.com//7.2.3.1//EN
TZID:Europe/Zurich
X-WR-TIMEZONE:Europe/Zurich
BEGIN:VEVENT
UID:5630@ref-nidau.ch
DTSTART;TZID=Europe/Zurich:20251015T120000
DTEND;TZID=Europe/Zurich:20251015T143000
DTSTAMP:20251029T104242Z
URL:https://ref-nidau.ch/anlaesse/mittagstisch-port-4/
SUMMARY:Mittagstisch Port.
DESCRIPTION:Anmeldung bis Freitag davor bei:\nAndrea Mäder\, T. 079 408 44
  71
ATTACH;FMTTYPE=image/jpeg:https://ref-nidau.ch/wp-content/uploads/2025/10/
 cover-4848710-1-scaled.jpg
CATEGORIES:Mittagstisch
LOCATION:Matthäus-Zentrum\, Port\, 2562\, Schweiz
GEO:47.11725495;7.255539038860412
X-APPLE-STRUCTURED-LOCATION;VALUE=URI;X-ADDRESS=Port\, 2562\, Schweiz;X-APP
 LE-RADIUS=100;X-TITLE=Matthäus-Zentrum:geo:47.11725495,7.255539038860412
END:VEVENT
BEGIN:VTIMEZONE
TZID:Europe/Zurich
X-LIC-LOCATION:Europe/Zurich
BEGIN:DAYLIGHT
DTSTART:20250330T030000
TZOFFSETFROM:+0100
TZOFFSETTO:+0200
TZNAME:CEST
END:DAYLIGHT
END:VTIMEZONE
END:VCALENDAR