BEGIN:VCALENDAR
VERSION:2.0
PRODID:-//wp-events-plugin.com//7.2.3.1//EN
TZID:Europe/Zurich
X-WR-TIMEZONE:Europe/Zurich
BEGIN:VEVENT
UID:5891@ref-nidau.ch
DTSTART;TZID=Europe/Zurich:20260114T143000
DTEND;TZID=Europe/Zurich:20260114T170000
DTSTAMP:20260119T233428Z
URL:https://ref-nidau.ch/anlaesse/nachmittag-60-nef/
SUMMARY:Nachmittag 65+ (NeF)
DESCRIPTION:Adi & Jürg erzählen\n\nGeschichten nehmen uns mit\, lassen un
 s träumen\, nachdenken und lachen. Lassen Sie sich an unserem Erzählnach
 mittag 65+ im Matthäus-Zentrum Port überraschen!\n\nNelly Furer\, Mitarb
 eiterin Sozialdianie\n\n***\nMittwoch\, 14. Januar\, 14.30 Uhr\nMatthäus-
 Zentrum Port\nErzählnachmittag 65+. Mit Adrian Hofmann\, Jürg Rindlisbac
 her und Nelly Furer.
ATTACH;FMTTYPE=image/jpeg:https://ref-nidau.ch/wp-content/uploads/2026/01/
 Foto5_happy-1.jpg
LOCATION:Matthäus-Zentrum\, Port\, 2562\, Schweiz
GEO:47.11725495;7.255539038860412
X-APPLE-STRUCTURED-LOCATION;VALUE=URI;X-ADDRESS=Port\, 2562\, Schweiz;X-APP
 LE-RADIUS=100;X-TITLE=Matthäus-Zentrum:geo:47.11725495,7.255539038860412
END:VEVENT
BEGIN:VTIMEZONE
TZID:Europe/Zurich
X-LIC-LOCATION:Europe/Zurich
BEGIN:STANDARD
DTSTART:20251026T020000
TZOFFSETFROM:+0200
TZOFFSETTO:+0100
TZNAME:CET
END:STANDARD
END:VTIMEZONE
END:VCALENDAR