BEGIN:VCALENDAR
VERSION:2.0
PRODID:-//wp-events-plugin.com//7.2.3.1//EN
TZID:Europe/Zurich
X-WR-TIMEZONE:Europe/Zurich
BEGIN:VEVENT
UID:5892@ref-nidau.ch
DTSTART;TZID=Europe/Zurich:20260211T143000
DTEND;TZID=Europe/Zurich:20260211T170000
DTSTAMP:20260216T233802Z
URL:https://ref-nidau.ch/anlaesse/theater-nachmittag-60-nef/
SUMMARY:Theater-Nachmittag 60+
DESCRIPTION:Wir freuen uns auf den lustigen Theater-Nachmittag der Senioren
 bühne der Liebhaberbühne Biel bei uns im Zentrum Ipsach. Das Lustspiel i
 n zwei Akten von Claudia Gysel trägt den Titel „Mit üs? Uf ke Fau!“\
 n\nNach der Aufführung bleibt Zeit für Kaffee / Tee und Kuchen.
ATTACH;FMTTYPE=image/jpeg:https://ref-nidau.ch/wp-content/uploads/2026/02/
 seniorenbuehne_mitues6-scaled.jpg
LOCATION:Mehrzweckhalle Ipsach\, Ipsach\, 2563\, Schweiz
GEO:47.1151391;7.2342617034802
X-APPLE-STRUCTURED-LOCATION;VALUE=URI;X-ADDRESS=Ipsach\, 2563\, Schweiz;X-A
 PPLE-RADIUS=100;X-TITLE=Mehrzweckhalle Ipsach:geo:47.1151391,7.23426170348
 02
END:VEVENT
BEGIN:VTIMEZONE
TZID:Europe/Zurich
X-LIC-LOCATION:Europe/Zurich
BEGIN:STANDARD
DTSTART:20251026T020000
TZOFFSETFROM:+0200
TZOFFSETTO:+0100
TZNAME:CET
END:STANDARD
END:VTIMEZONE
END:VCALENDAR