BEGIN:VCALENDAR
VERSION:2.0
PRODID:-//wp-events-plugin.com//7.2.3.1//EN
TZID:Europe/Zurich
X-WR-TIMEZONE:Europe/Zurich
BEGIN:VEVENT
UID:5699@ref-nidau.ch
DTSTART;TZID=Europe/Zurich:20251115T090000
DTEND;TZID=Europe/Zurich:20251115T130000
DTSTAMP:20251120T233524Z
URL:https://ref-nidau.ch/anlaesse/weihnachtspaeckli-aktion-2/
SUMMARY:Aktion Weihnachtspäckli
DESCRIPTION:Machen Sie mit bei der Aktion Weihnachtspäckli!\nMit Jugendlic
 hen sammeln wir Artikel und lang haltbare Lebensmittel  gemäss einer List
 e und stellen Weihnachtspäckli für Menschen in Osteuropa zusammen. Komme
 n Sie vorbei\, um uns dabei zu unterstützen\, wir haben einen Stand im Co
 op Nidau.\n \nBei Fragen melden Sie sich bei Anna Schiltknecht\, 077 284 7
 2 29\, anna.schiltknecht@ref-nidau.ch
ATTACH;FMTTYPE=image/jpeg:https://ref-nidau.ch/wp-content/uploads/2025/11/
 2025-11-15-Paeckliaktion_AnnS_A4-1.png
LOCATION:Kapelle\, Nidau\, 2560\, Schweiz
GEO:47.12507464536923;7.2397750080378485
X-APPLE-STRUCTURED-LOCATION;VALUE=URI;X-ADDRESS=Nidau\, 2560\, Schweiz;X-AP
 PLE-RADIUS=100;X-TITLE=Kapelle:geo:47.12507464536923,7.2397750080378485
END:VEVENT
BEGIN:VTIMEZONE
TZID:Europe/Zurich
X-LIC-LOCATION:Europe/Zurich
BEGIN:STANDARD
DTSTART:20251026T020000
TZOFFSETFROM:+0200
TZOFFSETTO:+0100
TZNAME:CET
END:STANDARD
END:VTIMEZONE
END:VCALENDAR