BEGIN:VCALENDAR
VERSION:2.0
PRODID:-//wp-events-plugin.com//7.2.3.1//EN
TZID:Europe/Zurich
X-WR-TIMEZONE:Europe/Zurich
BEGIN:VEVENT
UID:5687@ref-nidau.ch
DTSTART;TZID=Europe/Zurich:20251109T170000
DTEND;TZID=Europe/Zurich:20251109T180000
DTSTAMP:20251114T233419Z
URL:https://ref-nidau.ch/anlaesse/wort-raum-klang-2/
SUMMARY:Wort-Raum-Klang
DESCRIPTION:Unsere diesjährige WortRaumKlang-Reihe steht unter dem Motto "
 Der Regenbogen – von Noah bis Nemo"\n\nHeute: "Die Magie der Farben"\n\n
 Dass wir die einzelnen Farben des Regenbogens wahrnehmen\, ist eine Leistu
 ng unseres Gehirns. Die Farben\, die wir wahrnehmen\, wirken auch auf unse
 ren Körper\, auf unsere Gefühle. Wo ist der Regenbogen zu Ende? Und welc
 her Schatz liegt am Ende des Regenbogens? Können wir ein Regenbogen sein 
 in den Wolken von anderen Menschen?\nIm Rahmen unserer WortRaumKlang-Reihe
  laden wir zu einem Abend mit Texten und Musik ein.\n\nMit: Fernanda Vitel
 lo (Texte)\, Ursula Weingart (Orgel)\, Rolf-Dieter Gangl (Viola)
ATTACH;FMTTYPE=image/jpeg:https://ref-nidau.ch/wp-content/uploads/2025/11/
 Foto8_WortRaumKlang-2025-26_FotoItaloMelo_pexels_FreeStock.jpg
CATEGORIES:Gottesdienste,Wort Raum Klang
LOCATION:Kirche Nidau\, Mittelstrasse 1\, Nidau\, 2560\, Schweiz
GEO:47.125117;7.240367
X-APPLE-STRUCTURED-LOCATION;VALUE=URI;X-ADDRESS=Mittelstrasse 1\, Nidau\, 2
 560\, Schweiz;X-APPLE-RADIUS=100;X-TITLE=Kirche Nidau:geo:47.125117,7.2403
 67
END:VEVENT
BEGIN:VTIMEZONE
TZID:Europe/Zurich
X-LIC-LOCATION:Europe/Zurich
BEGIN:STANDARD
DTSTART:20251026T020000
TZOFFSETFROM:+0200
TZOFFSETTO:+0100
TZNAME:CET
END:STANDARD
END:VTIMEZONE
END:VCALENDAR