BEGIN:VCALENDAR
VERSION:2.0
PRODID:-//wp-events-plugin.com//7.2.3.1//EN
TZID:Europe/Zurich
X-WR-TIMEZONE:Europe/Zurich
BEGIN:VEVENT
UID:5625@ref-nidau.ch
DTSTART;TZID=Europe/Zurich:20251012T170000
DTEND;TZID=Europe/Zurich:20251012T180000
DTSTAMP:20251029T104242Z
URL:https://ref-nidau.ch/anlaesse/wort-raum-klang/
SUMMARY:Wort-Raum-Klang
DESCRIPTION:„Unter dem gleichen Regenbogen“\n\nMenschen sind verschiede
 n. Wo immer wir leben und wirken gibt es jedoch Einiges\, das verbindet un
 d das wir miteinander teilen. Zentrale Lebensgüter gehören nicht jemande
 m allein. Es liegt in unserer Verantwortung\, damit und miteinander sorgsa
 m umzugehen. Wir leben „unter dem gleichen Regenbogen“! Gerade heute b
 raucht es Menschen\, die den Regenbogen als Versöhnungs- und Hoffnungszei
 chen ernst nehmen. \n\n2. Feier der WortRaumKlang-Reihe 2025/26 (Thema Der
  Regenbogen – von Noah bis Nemo)\nTexte: Barbara Meyer Schäfer\nMusik: 
 Anna Sofia Hostettler (Harfe)\, Sally Jo Rüedi (Orgel)
ATTACH;FMTTYPE=image/jpeg:https://ref-nidau.ch/wp-content/uploads/2025/10/
 Foto8_WortRaumKlang-2025-26_FotoItaloMelo_pexels_FreeStock.jpg
CATEGORIES:Gottesdienste,Wort Raum Klang
LOCATION:Kirche Nidau\, Mittelstrasse 1\, Nidau\, 2560\, Schweiz
GEO:47.125117;7.240367
X-APPLE-STRUCTURED-LOCATION;VALUE=URI;X-ADDRESS=Mittelstrasse 1\, Nidau\, 2
 560\, Schweiz;X-APPLE-RADIUS=100;X-TITLE=Kirche Nidau:geo:47.125117,7.2403
 67
END:VEVENT
BEGIN:VTIMEZONE
TZID:Europe/Zurich
X-LIC-LOCATION:Europe/Zurich
BEGIN:DAYLIGHT
DTSTART:20250330T030000
TZOFFSETFROM:+0100
TZOFFSETTO:+0200
TZNAME:CEST
END:DAYLIGHT
END:VTIMEZONE
END:VCALENDAR